BEGIN:VCALENDAR
VERSION:1.0
PRODID:Open2CKalenderExportV11
BEGIN:VEVENT
DTSTAMP:20231017T133837Z
DTSTART:20231018T190000Z
DTEND:20231018T190000Z
CATEGORIES:Vorträge
SUMMARY:Wintervortrag - Energiewende im Markt Reisbach - Update 5
DESCRIPTION:  | Der Reisbacher Bürgermeister Rolf-Peter Holzleitner informiert in seinem Vortrag zum aktuellen Stand der Energiewende im Markt Reisbach. | Im Rahmen der Energie AG engagieren sich bereits seit fast zehn Jahren Reisbacher Bürger zum Thema Energiewende. | Forciert wird aktuell besonders das Thema Klimaanpassung. | Der Vortrag stellt sowohl die Arbeit der Reisbacher Energie AG, als auch die Fortschritte, Entwicklungen und Herausforderungen der Projekte zur Energieeinsparung und Klimaanpassung des Marktes Reisbach vor. | Ein besonderes Augenmerk liegt auf dem hochdynamischen Projekt "Wasserstoff", hierzu wird der aktuelle Zwischenstand präsentiert. |   |    |   | Rolf - Peter Holzleitner ist Erster Bürgermeister in Reisbach, Mitglied der Energie AG | und informiert die Bürger des Marktes Reisbach.  | Organisator   Energie AG Reisbach, Markt Reisbach | Kontakt   08734 4981
LOCATION:Haus der Bürger Reisbach, 
 Neumühlstraße 4
 94419 Reisbach
UID:36a560026f2061eb99868f7e06f6ebfb-7d6a38fc1f8f07b466ff6304a145cbea
PRIORITY:3
END:VEVENT
END:VCALENDAR
