BEGIN:VCALENDAR
VERSION:1.0
PRODID:Open2CKalenderExportV11
BEGIN:VEVENT
DTSTAMP:20240918T182846Z
DTSTART:20241128T150000Z
DTEND:20241128T150000Z
CATEGORIES:Schule
SUMMARY:1. Allgemeiner Elternsprechtag
DESCRIPTION:
LOCATION:
UID:e136112d9a6411643800db96cbca363e-7dbbcbed78d7dee43dc9f6e449a0afc3
PRIORITY:3
END:VEVENT
END:VCALENDAR
