BEGIN:VCALENDAR
VERSION:1.0
PRODID:Open2CKalenderExportV11
BEGIN:VEVENT
DTSTAMP:20260116T082210Z
DTSTART:20260324T000000Z
DTEND:20260324T000000Z
CATEGORIES:Sitzungen
SUMMARY:4. Sitzung des Marktgemeinderates 2026
DESCRIPTION:Öffentliche Sitzung, 19:00 Uhr | Nichtöffentliche Sitzung, ca. 20:00 Uhr |   | Bitte reichen Sie Anträge rechtzeitig 10 Tage vor dem Sitzungstermin ein, damit diese in der Gemeinderatssitzung auch behandelt werden können. | Organisator   Markt Reisbach | Landauer Str. 18 | 94419 Reisbach | 08734 49-0
LOCATION:Sitzungssaal im Rathaus Reisbach
UID:c0586d4e9fb5937a6b00828c7707aba2-4e524b9e03404fd59303951647790136
PRIORITY:3
END:VEVENT
END:VCALENDAR
