BEGIN:VCALENDAR
VERSION:1.0
PRODID:Open2CKalenderExportV11
BEGIN:VEVENT
DTSTAMP:20260116T082131Z
DTSTART:20260421T000000Z
DTEND:20260421T000000Z
CATEGORIES:Sitzungen
SUMMARY:5. Sitzung des Marktgemeinderates 2026
DESCRIPTION:Öffentliche Sitzung, 19:00 Uhr | Nichtöffentliche Sitzung, ca. 20:00 Uhr |   | Bitte reichen Sie Anträge rechtzeitig 10 Tage vor dem Sitzungstermin ein, damit diese in der Gemeinderatssitzung auch behandelt werden können. | Organisator   Markt Reisbach | Landauer Str. 18 | 94419 Reisbach | 08734 49-0
LOCATION:Sitzungssaal im Rathaus Reisbach
UID:70e7032040f60eddb30e9410cc570444-ea3466e32700b8807cfb594664ced3c9
PRIORITY:3
END:VEVENT
END:VCALENDAR
