BEGIN:VCALENDAR
VERSION:1.0
PRODID:Open2CKalenderExportV11
BEGIN:VEVENT
DTSTAMP:20260422T085513Z
DTSTART:20260512T000000Z
DTEND:20260512T000000Z
CATEGORIES:Sitzungen
SUMMARY:7. Sitzung des Marktgemeinderates 2026
DESCRIPTION:Öffentliche Sitzung, 19:00 Uhr | Nichtöffentliche Sitzung, ca. 20:00 Uhr | Organisator   Markt Reisbach | Landauer Str. 18 | 94419 Reisbach | 08734 49-0
LOCATION:Sitzungssaal im Rathaus Reisbach
UID:5d402d91f8b7bde2c7c7865224121e14-14a4beb22464a258bf138f983e34ac02
PRIORITY:3
END:VEVENT
END:VCALENDAR
