BEGIN:VCALENDAR
VERSION:2.0
PRODID:< http://www.open2c.de/ >
METHOD:PUBLISH
X-PUBLISHED-TTL:PT12H
BEGIN:VEVENT
CREATED:20231009T123304Z
LAST-MODIFIED:20231017T133837Z
ORGANIZER;CN="Energie AG Reisbach\, Markt Reisbach":MAILTO:08734 4981
DTSTAMP:20260420T110947Z
DTSTART;VALUE=DATE:20231018
CATEGORIES:Vorträge
SUMMARY:Wintervortrag - Energiewende im Markt Reisbach - Update 5
DESCRIPTION:  Der Reisbacher Bürgermeister Rolf-Peter Holzleitner informi
	ert in seinem Vortrag zum aktuellen Stand der Energiewende im Markt Reisba
	ch. Im Rahmen der Energie AG engagieren sich bereits seit fast zehn Jahren
	 Reisbacher Bürger zum Thema Energiewende. Forciert wird aktuell besonder
	s das Thema Klimaanpassung. Der Vortrag stellt sowohl die Arbeit der Reisb
	acher Energie AG\, als auch die Fortschritte\, Entwicklungen und Herausforde
	rungen der Projekte zur Energieeinsparung und Klimaanpassung des Marktes R
	eisbach vor. Ein besonderes Augenmerk liegt auf dem hochdynamischen Projek
	t "Wasserstoff"\, hierzu wird der aktuelle Zwischenstand präsentiert.   
	    Rolf - Peter Holzleitner ist Erster Bürgermeister in Reisbach\, Mitg
	lied der Energie AG und informiert die Bürger des Marktes Reisbach.  Org
	anisator Energie AG Reisbach\, Markt Reisbach Kontakt 08734 4981
LOCATION:Haus der Bürger Reisbach\, \nNeumühlstraße 4\n94419 Reisbach
UID:c9d31370909a9679f966d4c4c548c003@b269d83b1c1aebdeb704c07c44568e0a
END:VEVENT
END:VCALENDAR