BEGIN:VCALENDAR
VERSION:2.0
PRODID:< http://www.open2c.de/ >
METHOD:PUBLISH
X-PUBLISHED-TTL:PT12H
BEGIN:VEVENT
CREATED:20240918T182759Z
LAST-MODIFIED:20240918T182846Z
DTSTAMP:20260421T084525Z
DTSTART;VALUE=DATE:20241128
CATEGORIES:Schule
SUMMARY:1. Allgemeiner Elternsprechtag
UID:fd85bd2f06c735480f5dd4a1401aba75@b269d83b1c1aebdeb704c07c44568e0a
END:VEVENT
END:VCALENDAR